BEGIN:VCALENDAR
VERSION:2.0
PRODID:-//Brent Hopper Music - ECPv6.15.17.1//NONSGML v1.0//EN
CALSCALE:GREGORIAN
METHOD:PUBLISH
X-ORIGINAL-URL:https://brenthoppermusic.com
X-WR-CALDESC:Events for Brent Hopper Music
REFRESH-INTERVAL;VALUE=DURATION:PT1H
X-Robots-Tag:noindex
X-PUBLISHED-TTL:PT1H
BEGIN:VTIMEZONE
TZID:America/New_York
BEGIN:DAYLIGHT
TZOFFSETFROM:-0500
TZOFFSETTO:-0400
TZNAME:EDT
DTSTART:20250309T070000
END:DAYLIGHT
BEGIN:STANDARD
TZOFFSETFROM:-0400
TZOFFSETTO:-0500
TZNAME:EST
DTSTART:20251102T060000
END:STANDARD
BEGIN:DAYLIGHT
TZOFFSETFROM:-0500
TZOFFSETTO:-0400
TZNAME:EDT
DTSTART:20260308T070000
END:DAYLIGHT
BEGIN:STANDARD
TZOFFSETFROM:-0400
TZOFFSETTO:-0500
TZNAME:EST
DTSTART:20261101T060000
END:STANDARD
BEGIN:DAYLIGHT
TZOFFSETFROM:-0500
TZOFFSETTO:-0400
TZNAME:EDT
DTSTART:20270314T070000
END:DAYLIGHT
BEGIN:STANDARD
TZOFFSETFROM:-0400
TZOFFSETTO:-0500
TZNAME:EST
DTSTART:20271107T060000
END:STANDARD
END:VTIMEZONE
BEGIN:VEVENT
DTSTART;TZID=America/New_York:20260425T203000
DTEND;TZID=America/New_York:20260425T233000
DTSTAMP:20260422T060554
CREATED:20260205T214009Z
LAST-MODIFIED:20260205T214009Z
UID:678-1777149000-1777159800@brenthoppermusic.com
SUMMARY:Brent Hopper at The Dublin Pub
DESCRIPTION:Brent Hopper solo show returning to the wonderful Dublin Pub in Dayton\, OH. Come out for amazing food\, fresh pints & a night of Celtic/Americana Acoustic Roots Music…. \nShare this:\n				Share on X (Opens in new window)\n				X\n			\n				Share on Facebook (Opens in new window)\n				Facebook\n			\n				Share on Reddit (Opens in new window)\n				Reddit\n			\n				Share on Pinterest (Opens in new window)\n				Pinterest\n			\n				Email a link to a friend (Opens in new window)\n				Email\n			Like this:Like Loading...
URL:https://brenthoppermusic.com/event/brent-hopper-at-the-dublin-pub/
LOCATION:The Dublin Pub\, 300 Wayne Avenue\, Dayton\, OH\, 45410
ATTACH;FMTTYPE=image/jpeg:https://brenthoppermusic.com/wp-content/uploads/2026/01/brent-profile-photo-002.jpg
END:VEVENT
END:VCALENDAR