BEGIN:VCALENDAR
VERSION:2.0
PRODID:-//Brent Hopper Music - ECPv6.15.17.1//NONSGML v1.0//EN
CALSCALE:GREGORIAN
METHOD:PUBLISH
X-ORIGINAL-URL:https://brenthoppermusic.com
X-WR-CALDESC:Events for Brent Hopper Music
REFRESH-INTERVAL;VALUE=DURATION:PT1H
X-Robots-Tag:noindex
X-PUBLISHED-TTL:PT1H
BEGIN:VTIMEZONE
TZID:America/New_York
BEGIN:DAYLIGHT
TZOFFSETFROM:-0500
TZOFFSETTO:-0400
TZNAME:EDT
DTSTART:20250309T070000
END:DAYLIGHT
BEGIN:STANDARD
TZOFFSETFROM:-0400
TZOFFSETTO:-0500
TZNAME:EST
DTSTART:20251102T060000
END:STANDARD
BEGIN:DAYLIGHT
TZOFFSETFROM:-0500
TZOFFSETTO:-0400
TZNAME:EDT
DTSTART:20260308T070000
END:DAYLIGHT
BEGIN:STANDARD
TZOFFSETFROM:-0400
TZOFFSETTO:-0500
TZNAME:EST
DTSTART:20261101T060000
END:STANDARD
BEGIN:DAYLIGHT
TZOFFSETFROM:-0500
TZOFFSETTO:-0400
TZNAME:EDT
DTSTART:20270314T070000
END:DAYLIGHT
BEGIN:STANDARD
TZOFFSETFROM:-0400
TZOFFSETTO:-0500
TZNAME:EST
DTSTART:20271107T060000
END:STANDARD
END:VTIMEZONE
BEGIN:VEVENT
DTSTART;TZID=America/New_York:20260405T160000
DTEND;TZID=America/New_York:20260405T190000
DTSTAMP:20260422T061123
CREATED:20260117T191233Z
LAST-MODIFIED:20260117T191233Z
UID:628-1775404800-1775415600@brenthoppermusic.com
SUMMARY:Brent Hopper & Patrick Custy at Stone Mad Pub
DESCRIPTION:Easter Sunday show remembering the 1916 Easter Rising. Join in for an afternoon of Patriotic Songs & History remembering the men & women who fought for Irish Independence \nShare this:\n				Share on X (Opens in new window)\n				X\n			\n				Share on Facebook (Opens in new window)\n				Facebook\n			\n				Share on Reddit (Opens in new window)\n				Reddit\n			\n				Share on Pinterest (Opens in new window)\n				Pinterest\n			\n				Email a link to a friend (Opens in new window)\n				Email\n			Like this:Like Loading...
URL:https://brenthoppermusic.com/event/brent-hopper-patrick-custy-at-stone-mad-pub-2/
LOCATION:Stone Mad Pub\, 1306 W 65th St.\, Cleveland\, OH\, 44102
ATTACH;FMTTYPE=image/jpeg:https://brenthoppermusic.com/wp-content/uploads/2026/01/Irish-Republic-Image-001.jpg
END:VEVENT
BEGIN:VEVENT
DTSTART;TZID=America/New_York:20260328T190000
DTEND;TZID=America/New_York:20260328T220000
DTSTAMP:20260422T061123
CREATED:20260117T191437Z
LAST-MODIFIED:20260117T191437Z
UID:631-1774724400-1774735200@brenthoppermusic.com
SUMMARY:Brent Hopper at Unplugged Brewing Co.
DESCRIPTION:Brent Hopper back at the wonderful Unplugged Brewing Co in Elyria\, OH for a night of Acoustic Grateful Dead\, Bluegrass & Americana Roots Music…. \nShare this:\n				Share on X (Opens in new window)\n				X\n			\n				Share on Facebook (Opens in new window)\n				Facebook\n			\n				Share on Reddit (Opens in new window)\n				Reddit\n			\n				Share on Pinterest (Opens in new window)\n				Pinterest\n			\n				Email a link to a friend (Opens in new window)\n				Email\n			Like this:Like Loading...
URL:https://brenthoppermusic.com/event/brent-hopper-at-unplugged-brewing-co-2/
LOCATION:Unplugged Brewing Co.\, 201 E Bridge Street\, Elyria\, OH\, 44035
ATTACH;FMTTYPE=image/jpeg:https://brenthoppermusic.com/wp-content/uploads/2026/01/20260116_215138187_iOS.jpg
END:VEVENT
BEGIN:VEVENT
DTSTART;TZID=America/New_York:20260327T173000
DTEND;TZID=America/New_York:20260327T190000
DTSTAMP:20260422T061123
CREATED:20260205T175544Z
LAST-MODIFIED:20260205T175544Z
UID:674-1774632600-1774638000@brenthoppermusic.com
SUMMARY:Brent Hopper at St. Raphael's Fish Fry
DESCRIPTION:Looking forward to being back at this wonderful event in our hometown at St. Raphael’s. 5:30-7:00 Fish Fry 🙂 \nShare this:\n				Share on X (Opens in new window)\n				X\n			\n				Share on Facebook (Opens in new window)\n				Facebook\n			\n				Share on Reddit (Opens in new window)\n				Reddit\n			\n				Share on Pinterest (Opens in new window)\n				Pinterest\n			\n				Email a link to a friend (Opens in new window)\n				Email\n			Like this:Like Loading...
URL:https://brenthoppermusic.com/event/brent-hopper-at-st-raphaels-fish-fry/
LOCATION:St. Raphael’s Church\, 525 Dover Center Rd.\, Bay Village\, OH\, 44140
ATTACH;FMTTYPE=image/jpeg:https://brenthoppermusic.com/wp-content/uploads/2026/01/brent-profile-photo-002.jpg
END:VEVENT
BEGIN:VEVENT
DTSTART;TZID=America/New_York:20260315T160000
DTEND;TZID=America/New_York:20260315T190000
DTSTAMP:20260422T061123
CREATED:20260117T190449Z
LAST-MODIFIED:20260117T190449Z
UID:624-1773590400-1773601200@brenthoppermusic.com
SUMMARY:Brent Hopper & Patrick Custy at Stone Mad Pub
DESCRIPTION:Kick off to St. Patrick’s Day w/Brent Hopper & Patrick Custy at Stone Mad Pub performing an afternoon of Traditional Irish Music\, Folk & Rebel Ballads \nShare this:\n				Share on X (Opens in new window)\n				X\n			\n				Share on Facebook (Opens in new window)\n				Facebook\n			\n				Share on Reddit (Opens in new window)\n				Reddit\n			\n				Share on Pinterest (Opens in new window)\n				Pinterest\n			\n				Email a link to a friend (Opens in new window)\n				Email\n			Like this:Like Loading...
URL:https://brenthoppermusic.com/event/brent-hopper-patrick-custy-at-stone-mad-pub/
LOCATION:Stone Mad Pub\, 1306 W 65th St.\, Cleveland\, OH\, 44102
ATTACH;FMTTYPE=image/jpeg:https://brenthoppermusic.com/wp-content/uploads/2026/01/Irish-Republic-Image-001.jpg
END:VEVENT
BEGIN:VEVENT
DTSTART;TZID=America/New_York:20260314T173000
DTEND;TZID=America/New_York:20260314T193000
DTSTAMP:20260422T061123
CREATED:20260117T183857Z
LAST-MODIFIED:20260117T183857Z
UID:620-1773509400-1773516600@brenthoppermusic.com
SUMMARY:Achill Crossing at Shamrock Club of Columbus
DESCRIPTION:Achill Crossing returns to the Shamrock Club of Columbus for an evening of Irish Folk & Rebel Songs \nShare this:\n				Share on X (Opens in new window)\n				X\n			\n				Share on Facebook (Opens in new window)\n				Facebook\n			\n				Share on Reddit (Opens in new window)\n				Reddit\n			\n				Share on Pinterest (Opens in new window)\n				Pinterest\n			\n				Email a link to a friend (Opens in new window)\n				Email\n			Like this:Like Loading...
URL:https://brenthoppermusic.com/event/achill-crossing-at-shamrock-club-of-columbus/
LOCATION:Shamrock Club of Columbus\, 60 W Castle Rd.\, Columbus\, OH\, 43207
ATTACH;FMTTYPE=image/jpeg:https://brenthoppermusic.com/wp-content/uploads/2026/01/Achill-Crossing-001.jpg
END:VEVENT
BEGIN:VEVENT
DTSTART;TZID=America/New_York:20260305T193000
DTEND;TZID=America/New_York:20260305T223000
DTSTAMP:20260422T061123
CREATED:20260305T154055Z
LAST-MODIFIED:20260305T154055Z
UID:715-1772739000-1772749800@brenthoppermusic.com
SUMMARY:Brent Hopper & Patrick Custy at Crowley's Eastlake
DESCRIPTION:Join us at Crowley’s Dive Bar in Eastlake for an evening of Irish Traditional & Folk Songs… \nShare this:\n				Share on X (Opens in new window)\n				X\n			\n				Share on Facebook (Opens in new window)\n				Facebook\n			\n				Share on Reddit (Opens in new window)\n				Reddit\n			\n				Share on Pinterest (Opens in new window)\n				Pinterest\n			\n				Email a link to a friend (Opens in new window)\n				Email\n			Like this:Like Loading...
URL:https://brenthoppermusic.com/event/brent-hopper-patrick-custy-at-crowleys-eastlake/
LOCATION:Crowley’s Eastlake\, 35647 Vine St.\, Eastlake\, OH\, 44095
ATTACH;FMTTYPE=image/jpeg:https://brenthoppermusic.com/wp-content/uploads/2026/02/Brent-Pat-Custy-001.jpg
END:VEVENT
BEGIN:VEVENT
DTSTART;TZID=America/New_York:20260227T190000
DTEND;TZID=America/New_York:20260227T220000
DTSTAMP:20260422T061123
CREATED:20260117T183203Z
LAST-MODIFIED:20260122T030203Z
UID:614-1772218800-1772229600@brenthoppermusic.com
SUMMARY:Brent Hopper at Unplugged Brewing Co.
DESCRIPTION:Brent Hopper back at the wonderful Unplugged Brewing Co in Elyria\, OH for a night of Acoustic Grateful Dead\, Bluegrass & Americana Roots Music…. \nShare this:\n				Share on X (Opens in new window)\n				X\n			\n				Share on Facebook (Opens in new window)\n				Facebook\n			\n				Share on Reddit (Opens in new window)\n				Reddit\n			\n				Share on Pinterest (Opens in new window)\n				Pinterest\n			\n				Email a link to a friend (Opens in new window)\n				Email\n			Like this:Like Loading...
URL:https://brenthoppermusic.com/event/brent-hopper-at-unplugged-brewing-co/
LOCATION:Unplugged Brewing Co.\, 201 E Bridge Street\, Elyria\, OH\, 44035
ATTACH;FMTTYPE=image/jpeg:https://brenthoppermusic.com/wp-content/uploads/2026/01/20260116_215138187_iOS.jpg
END:VEVENT
BEGIN:VEVENT
DTSTART;TZID=America/New_York:20260222T160000
DTEND;TZID=America/New_York:20260222T190000
DTSTAMP:20260422T061123
CREATED:20260214T162059Z
LAST-MODIFIED:20260214T162059Z
UID:693-1771776000-1771786800@brenthoppermusic.com
SUMMARY:Brent Hopper Solo at Stone Mad Pub
DESCRIPTION:Brent Hopper solo show at Stone Mad Pub in Cleveland\, OH. Come on for good food\, a few pints & an afternoon of Irish\, Bluegrass & Americana Roots Music….; \nShare this:\n				Share on X (Opens in new window)\n				X\n			\n				Share on Facebook (Opens in new window)\n				Facebook\n			\n				Share on Reddit (Opens in new window)\n				Reddit\n			\n				Share on Pinterest (Opens in new window)\n				Pinterest\n			\n				Email a link to a friend (Opens in new window)\n				Email\n			Like this:Like Loading...
URL:https://brenthoppermusic.com/event/brent-hopper-solo-at-stone-mad-pub/
LOCATION:Stone Mad Pub\, 1306 W 65th St.\, Cleveland\, OH\, 44102
ATTACH;FMTTYPE=image/jpeg:https://brenthoppermusic.com/wp-content/uploads/2026/01/brent-profile-photo-002.jpg
END:VEVENT
BEGIN:VEVENT
DTSTART;TZID=America/New_York:20260215T150000
DTEND;TZID=America/New_York:20260215T180000
DTSTAMP:20260422T061123
CREATED:20260117T181554Z
LAST-MODIFIED:20260213T170412Z
UID:612-1771167600-1771178400@brenthoppermusic.com
SUMMARY:Dead at The Deli
DESCRIPTION:Come out for great food\, pints & an early evening of Good Ol’ Grateful Dead\, Bluegrass & Folk Music…. $10 suggested donation for music.  \nShare this:\n				Share on X (Opens in new window)\n				X\n			\n				Share on Facebook (Opens in new window)\n				Facebook\n			\n				Share on Reddit (Opens in new window)\n				Reddit\n			\n				Share on Pinterest (Opens in new window)\n				Pinterest\n			\n				Email a link to a friend (Opens in new window)\n				Email\n			Like this:Like Loading...
URL:https://brenthoppermusic.com/event/brent-hopper-at-stone-mad-pub-2/
LOCATION:Village Rose Deli\, 328 Bassett Rd.\, Bay Village\, OH\, 44140
ATTACH;FMTTYPE=image/png:https://brenthoppermusic.com/wp-content/uploads/2026/01/Copy-of-Highland-Paddies-FB-Event-Flier.png
END:VEVENT
BEGIN:VEVENT
DTSTART;TZID=America/New_York:20260212T170000
DTEND;TZID=America/New_York:20260212T200000
DTSTAMP:20260422T061123
CREATED:20260205T172704Z
LAST-MODIFIED:20260205T172704Z
UID:669-1770915600-1770926400@brenthoppermusic.com
SUMMARY:Brent Hopper & Patrick Custy at A.J. Rocco's
DESCRIPTION:Join us for a night of Traditional Irish & Folk Music… \nShare this:\n				Share on X (Opens in new window)\n				X\n			\n				Share on Facebook (Opens in new window)\n				Facebook\n			\n				Share on Reddit (Opens in new window)\n				Reddit\n			\n				Share on Pinterest (Opens in new window)\n				Pinterest\n			\n				Email a link to a friend (Opens in new window)\n				Email\n			Like this:Like Loading...
URL:https://brenthoppermusic.com/event/brent-hopper-patrick-custy-at-a-j-roccos/
LOCATION:A.J. Rocco’s\, 828 Huron Road\, Cleveland\, OH\, 44115
ATTACH;FMTTYPE=image/jpeg:https://brenthoppermusic.com/wp-content/uploads/2026/02/Brent-Pat-Custy-001.jpg
END:VEVENT
BEGIN:VEVENT
DTSTART;TZID=America/New_York:20260131T200000
DTEND;TZID=America/New_York:20260131T230000
DTSTAMP:20260422T061123
CREATED:20260117T173217Z
LAST-MODIFIED:20260117T173217Z
UID:598-1769889600-1769900400@brenthoppermusic.com
SUMMARY:Brent Hopper & Patrick Mulloy at Gormley's Pub
DESCRIPTION:Brent Hopper & Patrick Mulloy at Gormley’s Pub in Rocky River\, OH. Join in for a night of Celtic/Americana Acoustic Roots Music. \nShare this:\n				Share on X (Opens in new window)\n				X\n			\n				Share on Facebook (Opens in new window)\n				Facebook\n			\n				Share on Reddit (Opens in new window)\n				Reddit\n			\n				Share on Pinterest (Opens in new window)\n				Pinterest\n			\n				Email a link to a friend (Opens in new window)\n				Email\n			Like this:Like Loading...
URL:https://brenthoppermusic.com/event/brent-hopper-patrick-mulloy-at-gormleys-pub/
LOCATION:Gormley’s Pub\, 19500 Center Ridge Rd.\, Rocky River\, OH\, 44116
ATTACH;FMTTYPE=image/jpeg:https://brenthoppermusic.com/wp-content/uploads/2026/01/Brent-Pat-Photo-Gormleys.jpg
END:VEVENT
BEGIN:VEVENT
DTSTART;TZID=America/New_York:20260125T160000
DTEND;TZID=America/New_York:20260125T190000
DTSTAMP:20260422T061123
CREATED:20260117T171939Z
LAST-MODIFIED:20260117T171939Z
UID:588-1769356800-1769367600@brenthoppermusic.com
SUMMARY:Brent Hopper at Stone Mad Pub
DESCRIPTION:Brent Hopper Solo Show at Stone Mad Pub. Celtic/Americana Acoustic Roots Music \nShare this:\n				Share on X (Opens in new window)\n				X\n			\n				Share on Facebook (Opens in new window)\n				Facebook\n			\n				Share on Reddit (Opens in new window)\n				Reddit\n			\n				Share on Pinterest (Opens in new window)\n				Pinterest\n			\n				Email a link to a friend (Opens in new window)\n				Email\n			Like this:Like Loading...
URL:https://brenthoppermusic.com/event/brent-hopper-at-stone-mad-pub/
LOCATION:Stone Mad Pub\, 1306 W 65th St.\, Cleveland\, OH\, 44102
ATTACH;FMTTYPE=image/jpeg:https://brenthoppermusic.com/wp-content/uploads/2026/01/brent-profile-photo-002.jpg
END:VEVENT
END:VCALENDAR